Workbook

Sheet 应聘信息表
A1: 广西医科大学第七附属医院--梧州市工人医院个人应聘信息表
A2: 个人信息
A3: 姓名 | C3: 性别 | F3: 出生年月 | H3: 照片
A4: 应聘岗位 | C4: 意向科室 | F4: 是否服从调剂
A5: 籍贯（具体到市县） | C5: 现居住地（具体到市县） | F5: 政治面貌
A6: 身高 | C6: 婚姻状态 | F6: 目前状态
A7: 英语级别 | C7: 计算机水平 | F7: 医师执业范围（没有请填“无”）
A8: 最高职称（没有请填“无”） | C8: 最高职称取得时间 | F8: 身份证号
A9: 规培方向（没有请填“无”） | E9: 规培地点（没有请填“无”）
A10: 联系电话 | E10: 邮箱地址
A11: 教育经历
A12: 教育经历 | B12: 毕业时间 | C12: 学校 | D12: 学制 | E12: 专业 | F12: 学历 | G12: 学位 | H12: 是否通过普通高考升学（培养形式）
A14: 最高学历
A15: 第一学历
A16: 实习、工作、规培经历（时间不可间断）
A17: 开始时间 | B17: 至 | C17: 截止时间 | D17: 单位 | G17: 从事工作及职务
B18: 至
B19: 至
B20: 至
B21: 至
B22: 至
B23: 至
B24: 至
B25: 至
A26: 业绩成果
A27: 主要科研项目（没有请填“无”）
A28: 论文成果（没有请填“无”）
A29: 奖惩情况（没有请填“无”）
A30: 个人评价
A31: 报名人承诺 | B31: 本报名表所填内容正确无误，所提交的信息真实有效。如有虚假，本人愿意承担由此产生的一切后果。
B32: 报名人签名：
A34: 说明：
A35: 1.请符合条件的应聘者根据所列项目对应填写个人信息，并将专科、本科、硕士阶段学历证、学位证及大学英语四、六级证书、就业推荐表、成绩单、资格证、执业证、规培证、荣誉证书等扫描件附在报名表后，以“姓名--申报科室--岗位”为邮件主题发至wzsgryyrsk@126.com邮箱；
A36: 2.应聘者须保证所填信息真实、准确，如有虚假，将取消报名、聘用资格；
A37: 3.应聘人员所学专业（以毕业证书所标示专业为准）须与所报岗位专业相同，每人限报1个岗位；
A38: 4.应聘人员只需在“报名登记表”表格填写个人信息，其他黄色表格为自动链接表格，请勿填写和做任何修改。
A39: 5.如有疑问，请咨询梧州市工人医院人力资源部苏老师、曾老师 0774-2026180

Sheet Sheet2
A1: 梧州市工人医院个人应聘信息表（请填写应聘信息表，此表格为自动链接表格，请勿填写和做任何修改。）
A2: 姓名 | B2: 身份证号 | C2: 意向科室 | D2: 应聘岗位 | E2: 性别 | F2: 出生年月 | G2: 籍贯 | H2: 身高 | I2: 政治面貌 | J2: 最高学历 | K2: 最高学历毕业院校 | L2: 最高学历专业 | M2: 毕业时间 | N2: 第一学历 | O2: 第一学历毕业院校 | P2: 第一学历专业 | Q2: 英语等级情况 | R2: 最高职称 | S2: 执业范围 | T2: 联系电话 | U2: 实习、工作、规培经历 | V2: 主要科研项目 | W2: 论文成果 | X2: 奖惩情况
A3: =IF(应聘信息表!B3="","",应聘信息表!B3) | B3: =IF(应聘信息表!G8="","",应聘信息表!G8) | C3: =IF(应聘信息表!D4="","",应聘信息表!D4) | D3: =IF(应聘信息表!B4="","",应聘信息表!B4) | E3: =IF(应聘信息表!D3="","",应聘信息表!D3) | F3: =IF(应聘信息表!G3="","",应聘信息表!G3) | G3: =IF(应聘信息表!B5="","",应聘信息表!B5) | H3: =IF(应聘信息表!B6="","",应聘信息表!B6) | I3: =IF(应聘信息表!G5="","",应聘信息表!G5) | J3: =IF(应聘信息表!F14="","",应聘信息表!F14) | K3: =IF(应聘信息表!C14="","",应聘信息表!C14) | L3: =IF(应聘信息表!E14="","",应聘信息表!E14) | M3: =IF(应聘信息表!B14="","",应聘信息表!B14) | N3: =IF(应聘信息表!F15="","",应聘信息表!F15) | O3: =IF(应聘信息表!C15="","",应聘信息表!C15) | P3: =IF(应聘信息表!E15="","",应聘信息表!E15) | Q3: =IF(应聘信息表!B7="","",应聘信息表!B7) | R3: =IF(应聘信息表!B8="","",应聘信息表!B8) | S3: =IF(应聘信息表!G7="","",应聘信息表!G7) | T3: =IF(应聘信息表!C10="","",应聘信息表!C10) | U3: =PHONETIC(应聘信息表!A18:H25) -> 至至至至至至至至 | V3: =IF(应聘信息表!B27="","",应聘信息表!B27) | W3: =IF(应聘信息表!B28="","",应聘信息表!B28) | X3: =IF(应聘信息表!B29="","",应聘信息表!B29)
